BEGIN:VCALENDAR
VERSION:2.0
PRODID:-//NAWIC Puget Sound - ECPv6.15.20//NONSGML v1.0//EN
CALSCALE:GREGORIAN
METHOD:PUBLISH
X-ORIGINAL-URL:https://www.nawicpugetsound.com
X-WR-CALDESC:Events for NAWIC Puget Sound
REFRESH-INTERVAL;VALUE=DURATION:PT1H
X-Robots-Tag:noindex
X-PUBLISHED-TTL:PT1H
BEGIN:VTIMEZONE
TZID:America/Los_Angeles
BEGIN:DAYLIGHT
TZOFFSETFROM:-0800
TZOFFSETTO:-0700
TZNAME:PDT
DTSTART:20230312T100000
END:DAYLIGHT
BEGIN:STANDARD
TZOFFSETFROM:-0700
TZOFFSETTO:-0800
TZNAME:PST
DTSTART:20231105T090000
END:STANDARD
BEGIN:DAYLIGHT
TZOFFSETFROM:-0800
TZOFFSETTO:-0700
TZNAME:PDT
DTSTART:20240310T100000
END:DAYLIGHT
BEGIN:STANDARD
TZOFFSETFROM:-0700
TZOFFSETTO:-0800
TZNAME:PST
DTSTART:20241103T090000
END:STANDARD
BEGIN:DAYLIGHT
TZOFFSETFROM:-0800
TZOFFSETTO:-0700
TZNAME:PDT
DTSTART:20250309T100000
END:DAYLIGHT
BEGIN:STANDARD
TZOFFSETFROM:-0700
TZOFFSETTO:-0800
TZNAME:PST
DTSTART:20251102T090000
END:STANDARD
BEGIN:DAYLIGHT
TZOFFSETFROM:-0800
TZOFFSETTO:-0700
TZNAME:PDT
DTSTART:20260308T100000
END:DAYLIGHT
BEGIN:STANDARD
TZOFFSETFROM:-0700
TZOFFSETTO:-0800
TZNAME:PST
DTSTART:20261101T090000
END:STANDARD
BEGIN:DAYLIGHT
TZOFFSETFROM:-0800
TZOFFSETTO:-0700
TZNAME:PDT
DTSTART:20270314T100000
END:DAYLIGHT
BEGIN:STANDARD
TZOFFSETFROM:-0700
TZOFFSETTO:-0800
TZNAME:PST
DTSTART:20271107T090000
END:STANDARD
END:VTIMEZONE
BEGIN:VEVENT
DTSTART;TZID=America/Los_Angeles:20260304T150000
DTEND;TZID=America/Los_Angeles:20260304T180000
DTSTAMP:20260420T155723
CREATED:20260210T045808Z
LAST-MODIFIED:20260213T163016Z
UID:10000144-1772636400-1772647200@www.nawicpugetsound.com
SUMMARY:Trivia Night
DESCRIPTION:Get ready for a night of fun and friendly competition at Trivia Night hosted by Patrick Hennessy! Registration includes appetizers and two drinks to keep you fueled while you compete for awesome prizes. Topics will cover everything from pop culture and academic subjects to sports and construction\, so there’s something for everyone! . Bring your A-game\, and get ready for an unforgettable night of trivia and prizes!\n\n\n\n\nEvent starts at 3pm\, Trivia to start at 3:45pm sharp.\n\n\n\n 
URL:https://www.nawicpugetsound.com/event/trivia-night-3/
LOCATION:Watts Brewing\, 15510 Redmond - Woodinville Rd NE #E110\, Woodinville\, WA
CATEGORIES:Uncategorized
ATTACH;FMTTYPE=image/png:https://www.nawicpugetsound.com/wp-content/uploads/2026/02/WIC-Week-Wed-Trivia-Night.png
END:VEVENT
BEGIN:VEVENT
DTSTART;TZID=America/Los_Angeles:20250611T160000
DTEND;TZID=America/Los_Angeles:20250611T190000
DTSTAMP:20260420T155723
CREATED:20250523T204517Z
LAST-MODIFIED:20250523T204517Z
UID:10000118-1749657600-1749668400@www.nawicpugetsound.com
SUMMARY:Trivia Night!
DESCRIPTION:Join NAWIC Puget Sound and trivia host Patrick Hennessy for a fun and engaging evening of trivia at Watts Brewing. This event will feature two rounds of trivia\, offering a great opportunity to connect with industry peers\, enjoy local brews\, and test your knowledge in a relaxed and social setting. \nDate: Tuesday\, June 11Time: 4:00 PM – 7:00 PMLocation: Watts Brewing Company \nThis event is free for NAWIC members and $25 for non-members. Whether you’re coming to compete or just to enjoy the atmosphere\, we hope to see you there!
URL:https://www.nawicpugetsound.com/event/trivia-night-2/
LOCATION:Watts Brewing\, 15510 Redmond - Woodinville Rd NE #E110\, Woodinville\, WA
CATEGORIES:Uncategorized
ATTACH;FMTTYPE=image/png:https://www.nawicpugetsound.com/wp-content/uploads/2025/05/NAWIC-PS-Trivia-Night-no-animation-or--scaled.png
END:VEVENT
BEGIN:VEVENT
DTSTART;TZID=America/Los_Angeles:20250307T160000
DTEND;TZID=America/Los_Angeles:20250307T190000
DTSTAMP:20260420T155723
CREATED:20250212T212859Z
LAST-MODIFIED:20260123T182617Z
UID:10000111-1741363200-1741374000@www.nawicpugetsound.com
SUMMARY:Sip & Pour
DESCRIPTION:Join us for a fun and creative candle-making experience! \nLed by Iris Oppong\, owner and instructor of Ardour Sisterz Candles\, this hands-on class will guide you through the art of crafting your own custom candle. \nEnjoy a relaxing atmosphere with delicious appetizers from Watts Brewing Company\, two refreshing drinks\, and the satisfaction of taking home a beautifully crafted candle of your own creation. \nSpace limited to 40 people – sign up today! \n  \n 
URL:https://www.nawicpugetsound.com/event/sip-pour/
LOCATION:Watts Brewing\, 15510 Redmond - Woodinville Rd NE #E110\, Woodinville\, WA
ATTACH;FMTTYPE=image/png:https://www.nawicpugetsound.com/wp-content/uploads/2025/02/WIC-WEEK-Sip-Pour-WebsiteFBLinkedIn.png
END:VEVENT
BEGIN:VEVENT
DTSTART;TZID=America/Los_Angeles:20250206T160000
DTEND;TZID=America/Los_Angeles:20250206T190000
DTSTAMP:20260420T155723
CREATED:20250116T193358Z
LAST-MODIFIED:20250206T014737Z
UID:10000103-1738857600-1738868400@www.nawicpugetsound.com
SUMMARY:Self-Love Event
DESCRIPTION:Show some love to yourself this February by joining NAWIC Puget Sound  for professional headshots\, Valentine-style Charcuterie board lessons\, drinks\, food and good times! \nThe Self-Love event will be at Watts Brewing in Woodinville\, and will include Professional Headshots\, (2) drinks and appetizers. Optional Valentine-Heart Charcuterie lesson as well. \nPhotography by the amazing Ryder Kimmes\, and Charcuterie workshop by the amazing Dished by Rachel. \nSpecial Thanks to Queen Anne Painting and Johnson Barrow for sponsoring this event! \n 
URL:https://www.nawicpugetsound.com/event/self-love-event/
LOCATION:Watts Brewing\, 15510 Redmond - Woodinville Rd NE #E110\, Woodinville\, WA
CATEGORIES:Uncategorized
ATTACH;FMTTYPE=image/png:https://www.nawicpugetsound.com/wp-content/uploads/2025/01/NAWIC-Feb-Self-Love-WebsiteLinkedIn-1.png
END:VEVENT
BEGIN:VEVENT
DTSTART;TZID=America/Los_Angeles:20241114T160000
DTEND;TZID=America/Los_Angeles:20241114T190000
DTSTAMP:20260420T155723
CREATED:20241017T173939Z
LAST-MODIFIED:20241018T172318Z
UID:10000098-1731600000-1731610800@www.nawicpugetsound.com
SUMMARY:Let's PAR-TEE! NAWIC + TPS
DESCRIPTION:We are thrilled to announce an exciting new partnership between NAWIC Puget Sound and The Pro Shop\, aimed at empowering women and young girls through education\, mentorship\, and skill-building in both construction and corporate environments. \nOur upcoming event\, Let’s Par-Tee\, will kick off this collaboration by equipping female professionals with the essential tools they need to thrive—whether on the golf course\, in the field\, or in the boardroom. \nTICKETS: $25\n• includes (2) drink tickets (1) raffle ticket\n• ability to purchase additional raffle tickets day of for 5/$20 \nPURCHASE TICKETS HERE! \nThe Pro Shop is committed to empowering women in architecture\, engineering\, and construction\, helping them attain greater positions of influence through the game of golf. Our goal is to inspire more women to embrace golf as a means to build networks and advance their careers. We provide leadership programs\, brand collaborations\, networking events\, golf lessons\, and essential resources to get started in the game. Together\, NAWIC and The Pro Shop share a commitment to fostering inclusion and mentorship\, and we are excited about the incredible potential of this partnership. \n*Appetizers will be provided. Raffle prizes: kraken tickets\, golf clubs\, private instruction and so much more! \nTHANK YOU TO OUR SPONSORS:\nAldrich & Associates\, ATI\, Evolution Architecture\, James King Roofing\, NLS\, Prime Parking Systems\, Sellen\, Servicemaster Restore\, Servpro\, Sound Painting Solutions\, Watts Brewing Company\, United Rentals
URL:https://www.nawicpugetsound.com/event/lets-par-tee-nawic-tps/
LOCATION:Watts Brewing\, 15510 Redmond - Woodinville Rd NE #E110\, Woodinville\, WA
CATEGORIES:Uncategorized
ATTACH;FMTTYPE=image/jpeg:https://www.nawicpugetsound.com/wp-content/uploads/2024/10/ParTee-Announcement-Email-Graphic.jpg
END:VEVENT
END:VCALENDAR