BEGIN:VCALENDAR
VERSION:2.0
PRODID:-//NAWIC Puget Sound - ECPv6.15.20//NONSGML v1.0//EN
CALSCALE:GREGORIAN
METHOD:PUBLISH
X-WR-CALNAME:NAWIC Puget Sound
X-ORIGINAL-URL:https://www.nawicpugetsound.com
X-WR-CALDESC:Events for NAWIC Puget Sound
REFRESH-INTERVAL;VALUE=DURATION:PT1H
X-Robots-Tag:noindex
X-PUBLISHED-TTL:PT1H
BEGIN:VTIMEZONE
TZID:America/Los_Angeles
BEGIN:DAYLIGHT
TZOFFSETFROM:-0800
TZOFFSETTO:-0700
TZNAME:PDT
DTSTART:20250309T100000
END:DAYLIGHT
BEGIN:STANDARD
TZOFFSETFROM:-0700
TZOFFSETTO:-0800
TZNAME:PST
DTSTART:20251102T090000
END:STANDARD
BEGIN:DAYLIGHT
TZOFFSETFROM:-0800
TZOFFSETTO:-0700
TZNAME:PDT
DTSTART:20260308T100000
END:DAYLIGHT
BEGIN:STANDARD
TZOFFSETFROM:-0700
TZOFFSETTO:-0800
TZNAME:PST
DTSTART:20261101T090000
END:STANDARD
BEGIN:DAYLIGHT
TZOFFSETFROM:-0800
TZOFFSETTO:-0700
TZNAME:PDT
DTSTART:20270314T100000
END:DAYLIGHT
BEGIN:STANDARD
TZOFFSETFROM:-0700
TZOFFSETTO:-0800
TZNAME:PST
DTSTART:20271107T090000
END:STANDARD
END:VTIMEZONE
BEGIN:VEVENT
DTSTART;TZID=America/Los_Angeles:20260304T120000
DTEND;TZID=America/Los_Angeles:20260304T133000
DTSTAMP:20260421T031936
CREATED:20260210T043525Z
LAST-MODIFIED:20260303T165926Z
UID:10000143-1772625600-1772631000@www.nawicpugetsound.com
SUMMARY:Lunch & Learn: Build it Right the First Time
DESCRIPTION:Presentation Synopsis – Build it Right the First Time: Lessons in Quality \nThis session highlights lessons learned from local projects through mini case studies showcasing real-world quality challenges\, root causes\, and solutions from select CSI Divisions across multiple project phases: planning\, construction\, and post construction / warranty. \nUsing these project experiences\, we will identify the common quality challenges related to planning\, design coordination\, materials\, workmanship\, communication\, and inspection – factors that directly impact project outcomes. These elements are core to a proactive quality management plan and part of our playbook to reduce rework\, control unforeseen costs and delays\, and deliver projects Built Right the First Time. \nAttendees will leave with “stories from the trenches” they can use to advocate for quality\, lead with confidence\, and influence positive change on jobsites and within project teams. \nSpeaker Bios \nLily Iftner is a Quality & Post Construction Manager for Sellen Construction. She’s been in multiple roles throughout her 28 years in the construction industry and is also a NAWIC member since 1999. In addition to her project roles\, she leads a company-wide technical resource training and sharing at Sellen \nBrian Caudle is the Director of Quality at Sellen\, with 17 years previous construction experience in field and office roles with both PCL and GLY. \n  \n \n 
URL:https://www.nawicpugetsound.com/event/lunch-learn-build-it-right-the-first-time/
LOCATION:Sellen Construction\, 227 Westlake Ave N\, Seattle\, WA\, 98109\, United States
CATEGORIES:Uncategorized
ATTACH;FMTTYPE=image/png:https://www.nawicpugetsound.com/wp-content/uploads/2026/02/WIC-Week-Wed-Lunch-Learn.png
END:VEVENT
END:VCALENDAR