BEGIN:VCALENDAR
VERSION:2.0
PRODID:-//NAWIC Puget Sound - ECPv6.15.20//NONSGML v1.0//EN
CALSCALE:GREGORIAN
METHOD:PUBLISH
X-WR-CALNAME:NAWIC Puget Sound
X-ORIGINAL-URL:https://www.nawicpugetsound.com
X-WR-CALDESC:Events for NAWIC Puget Sound
REFRESH-INTERVAL;VALUE=DURATION:PT1H
X-Robots-Tag:noindex
X-PUBLISHED-TTL:PT1H
BEGIN:VTIMEZONE
TZID:America/Los_Angeles
BEGIN:DAYLIGHT
TZOFFSETFROM:-0800
TZOFFSETTO:-0700
TZNAME:PDT
DTSTART:20230312T100000
END:DAYLIGHT
BEGIN:STANDARD
TZOFFSETFROM:-0700
TZOFFSETTO:-0800
TZNAME:PST
DTSTART:20231105T090000
END:STANDARD
BEGIN:DAYLIGHT
TZOFFSETFROM:-0800
TZOFFSETTO:-0700
TZNAME:PDT
DTSTART:20240310T100000
END:DAYLIGHT
BEGIN:STANDARD
TZOFFSETFROM:-0700
TZOFFSETTO:-0800
TZNAME:PST
DTSTART:20241103T090000
END:STANDARD
BEGIN:DAYLIGHT
TZOFFSETFROM:-0800
TZOFFSETTO:-0700
TZNAME:PDT
DTSTART:20250309T100000
END:DAYLIGHT
BEGIN:STANDARD
TZOFFSETFROM:-0700
TZOFFSETTO:-0800
TZNAME:PST
DTSTART:20251102T090000
END:STANDARD
BEGIN:DAYLIGHT
TZOFFSETFROM:-0800
TZOFFSETTO:-0700
TZNAME:PDT
DTSTART:20260308T100000
END:DAYLIGHT
BEGIN:STANDARD
TZOFFSETFROM:-0700
TZOFFSETTO:-0800
TZNAME:PST
DTSTART:20261101T090000
END:STANDARD
BEGIN:DAYLIGHT
TZOFFSETFROM:-0800
TZOFFSETTO:-0700
TZNAME:PDT
DTSTART:20270314T100000
END:DAYLIGHT
BEGIN:STANDARD
TZOFFSETFROM:-0700
TZOFFSETTO:-0800
TZNAME:PST
DTSTART:20271107T090000
END:STANDARD
END:VTIMEZONE
BEGIN:VEVENT
DTSTART;TZID=America/Los_Angeles:20260305T100000
DTEND;TZID=America/Los_Angeles:20260305T130000
DTSTAMP:20260422T064214
CREATED:20260210T052011Z
LAST-MODIFIED:20260226T070833Z
UID:10000146-1772704800-1772715600@www.nawicpugetsound.com
SUMMARY:Volunteer Day: Cocoon House
DESCRIPTION:All hands on deck! Join us to learn about Cocoon House & their services. Roll up your sleeves & help deep clean their U-Turn drop-in center & entrance stairwells.
URL:https://www.nawicpugetsound.com/event/volunteer-day-cocoon-house/
LOCATION:Cocoon House\, 3530 Colby Ave\, Everett\, Washington\, 98201
CATEGORIES:Uncategorized
ATTACH;FMTTYPE=image/png:https://www.nawicpugetsound.com/wp-content/uploads/2026/02/WIC-Week-Thurs-Volunteer-Day.png
END:VEVENT
BEGIN:VEVENT
DTSTART;TZID=America/Los_Angeles:20240125T090000
DTEND;TZID=America/Los_Angeles:20240125T120000
DTSTAMP:20260422T064214
CREATED:20240108T224032Z
LAST-MODIFIED:20240108T224032Z
UID:10000074-1706173200-1706184000@www.nawicpugetsound.com
SUMMARY:Be of Service! NAWIC Volunteering Event at Cocoon House
DESCRIPTION:NAWIC of Puget Sound is partnering with Cocoon House to help them support young people experiencing homelessness and help break the cycle of homelessness. \nFounded as an emergency shelter for youth in 1991\, Cocoon House has grown to include a continuum of programs designed to prevent and end youth homelessness. Cocoon House offers short- and long-term housing\, street outreach\, and prevention services aimed at strengthening families. Together\, these programs represent a network of services that improve outcomes for youth and families in Snohomish County. \nWe will be volunteering in their kitchen space to assist in food preparation for the youth living onsite.
URL:https://www.nawicpugetsound.com/event/be-of-service-nawic-volunteering-event-at-cocoon-house/
LOCATION:Cocoon House\, 3530 Colby Ave\, Everett\, Washington\, 98201
ATTACH;FMTTYPE=image/png:https://www.nawicpugetsound.com/wp-content/uploads/2024/01/Cocoon-House-Be-of-Service-16x9-1.png
END:VEVENT
END:VCALENDAR