BEGIN:VCALENDAR
VERSION:2.0
PRODID:-//NAWIC Puget Sound - ECPv6.15.20//NONSGML v1.0//EN
CALSCALE:GREGORIAN
METHOD:PUBLISH
X-ORIGINAL-URL:https://www.nawicpugetsound.com
X-WR-CALDESC:Events for NAWIC Puget Sound
REFRESH-INTERVAL;VALUE=DURATION:PT1H
X-Robots-Tag:noindex
X-PUBLISHED-TTL:PT1H
BEGIN:VTIMEZONE
TZID:America/Los_Angeles
BEGIN:DAYLIGHT
TZOFFSETFROM:-0800
TZOFFSETTO:-0700
TZNAME:PDT
DTSTART:20240310T100000
END:DAYLIGHT
BEGIN:STANDARD
TZOFFSETFROM:-0700
TZOFFSETTO:-0800
TZNAME:PST
DTSTART:20241103T090000
END:STANDARD
BEGIN:DAYLIGHT
TZOFFSETFROM:-0800
TZOFFSETTO:-0700
TZNAME:PDT
DTSTART:20250309T100000
END:DAYLIGHT
BEGIN:STANDARD
TZOFFSETFROM:-0700
TZOFFSETTO:-0800
TZNAME:PST
DTSTART:20251102T090000
END:STANDARD
BEGIN:DAYLIGHT
TZOFFSETFROM:-0800
TZOFFSETTO:-0700
TZNAME:PDT
DTSTART:20260308T100000
END:DAYLIGHT
BEGIN:STANDARD
TZOFFSETFROM:-0700
TZOFFSETTO:-0800
TZNAME:PST
DTSTART:20261101T090000
END:STANDARD
BEGIN:DAYLIGHT
TZOFFSETFROM:-0800
TZOFFSETTO:-0700
TZNAME:PDT
DTSTART:20270314T100000
END:DAYLIGHT
BEGIN:STANDARD
TZOFFSETFROM:-0700
TZOFFSETTO:-0800
TZNAME:PST
DTSTART:20271107T090000
END:STANDARD
END:VTIMEZONE
BEGIN:VEVENT
DTSTART;TZID=America/Los_Angeles:20260304T163000
DTEND;TZID=America/Los_Angeles:20260304T190000
DTSTAMP:20260422T034230
CREATED:20260210T050855Z
LAST-MODIFIED:20260226T061606Z
UID:10000145-1772641800-1772650800@www.nawicpugetsound.com
SUMMARY:3rd Annual AGC WIC Celebration
DESCRIPTION:Purchase your non-AGC member tickets here–> Celebration of Women In Construction   \nPurchase your AGCW Member ticket HERE. \n3rd Annual Celebration of Women in Construction | Join Us!\nBe part of an unforgettable evening honoring the incredible women shaping the future of construction! The third annual Celebration of Women in Construction\, hosted by AGCW and NAWIC Pacific NW Region and presented by Dawson Construction\, is your chance to connect\, learn\, and be inspired! \nThe evening begins with an inspiring keynote\, proudly sponsored by RAM Construction.  Leadership expert Andrea Janzen\, founder of Ambition Theory\, who will share practical strategies for advancing together through transformational leadership. Discover why sponsorship matters and leave with actionable steps to elevate your career and empower others. \nThen\, hear from a dynamic panel of women leaders—tradeswomen\, engineers\, project managers\, and executives—sharing real-world insights and success stories. Network with peers over delicious appetizers and drinks while building a community that champions inclusion and opportunity. \nPlus\, don’t miss our silent auction benefiting scholarships for women pursuing construction trades at Bellingham Technical College Foundation. \nThis event is open to everyone: women\, men\, AGC members and non-AGC members alike. Registration is just $15 per person\, but the value you’ll gain from this event will be far greater!  Let’s celebrate resilience\, talent\, and innovation\, and pave the way for a brighter future in construction. \nReserve your spot today and join the movement! Register today… \nPurchase your non-AGC member tickets here–> Celebration of Women In Construction   \nPurchase your AGCW Member ticket HERE.
URL:https://www.nawicpugetsound.com/event/5835/
LOCATION:Bellingham Golf & Country Club\, 3729 Meridian St\, Bellingham\, WA\, 98225\, United States
CATEGORIES:Uncategorized
ATTACH;FMTTYPE=image/png:https://www.nawicpugetsound.com/wp-content/uploads/2026/02/WIC-Week-Media-AGC.png
END:VEVENT
BEGIN:VEVENT
DTSTART;TZID=America/Los_Angeles:20250306T163000
DTEND;TZID=America/Los_Angeles:20250306T190000
DTSTAMP:20260422T034230
CREATED:20250212T212817Z
LAST-MODIFIED:20260123T182631Z
UID:10000110-1741278600-1741287600@www.nawicpugetsound.com
SUMMARY:Panel: AGC 2nd Annual Celebration of Women in Construction
DESCRIPTION:Join NAWIC Puget Sound and AGC of WA for the second annual Celebration of Women in Construction! \n\n\n\n\nThis event will provide an engaging panel discussion featuring women who are building their careers in construction as well as respective leaders in a variety of roles in the industry. They will share their insights\, experiences and successes/challenges (both professional and personal) through their career journey\, which we expect will inspire more women to consider construction as a career path. The evening will provide networking and sharing opportunities to help develop a supportive community that champions equality and encourages more women to pursue construction careers. \nIn addition to the panel\, discussions and networking\, attendees can participate in a silent auction\, benefiting scholarships for women pursuing construction trades at Bellingham Technical College Foundation. Together\, let’s celebrate trailblazing women and pave the way for an even brighter future in construction. \nAppetizers and drinks will be served. \nRegistration available via the AGC – Please Register here!
URL:https://www.nawicpugetsound.com/event/panel-agc-2nd-annual-celebration-of-women-in-construction/
LOCATION:Bellingham Golf & Country Club\, 3729 Meridian St\, Bellingham\, WA\, 98225\, United States
ATTACH;FMTTYPE=image/png:https://www.nawicpugetsound.com/wp-content/uploads/2025/02/WIC-Week-Panel-WebsiteLinkedInFB.png
END:VEVENT
END:VCALENDAR